
BEGIN:VCALENDAR
VERSION:2.0
PRODID:-//5.44.111.156//NONSGML kigkonsult.se iCalcreator 2.20//
CALSCALE:GREGORIAN
METHOD:PUBLISH
X-WR-TIMEZONE:UTC
BEGIN:VEVENT
UID:event433@Schützengau Vilsbiburg
DTSTAMP:20260420T063606Z
CATEGORIES:Gaumeisterschaft
DESCRIPTION:GMS 2023 - LG Herren/Damen I-V\nKategorie: Gaumeisterschaft\nIC
 S-Link: https://www.gau-vilsbiburg.de/index.php?option=com_jem&view=event&
 id=433:gms-2023-lg-herren-damen-i-v\n
DTSTART:20230112T180000Z
DTEND:20230112T203000Z
LOCATION:Almenrausch Velden\,Viehweide 33\,84149 Velden
SUMMARY:GMS 2023 - LG Herren/Damen I-V
URL:https://www.gau-vilsbiburg.de/index.php?option=com_jem&view=event&id=43
 3:gms-2023-lg-herren-damen-i-v
END:VEVENT
END:VCALENDAR
