
BEGIN:VCALENDAR
VERSION:2.0
PRODID:-//5.44.111.156//NONSGML kigkonsult.se iCalcreator 2.20//
CALSCALE:GREGORIAN
METHOD:PUBLISH
X-WR-TIMEZONE:UTC
BEGIN:VEVENT
UID:event435@Schützengau Vilsbiburg
DTSTAMP:20260422T134552Z
CATEGORIES:Gaumeisterschaft
DESCRIPTION:GMS 2023 - LG + LP AUFLAGE alle Klassen m/w\nKategorie: Gaumeis
 terschaft\nICS-Link: https://www.gau-vilsbiburg.de/index.php?option=com_je
 m&view=event&id=435:gms-2023-lg-lp-auflage-alle-klassen-m-w\n
DTSTART:20230121T140000Z
DTEND:20230121T174500Z
LOCATION:BaL Frontenhausen\,Jahnstraße 30a\,84160 Frontenhausen
SUMMARY:GMS 2023 - LG + LP AUFLAGE alle Klassen m/w
URL:https://www.gau-vilsbiburg.de/index.php?option=com_jem&view=event&id=43
 5:gms-2023-lg-lp-auflage-alle-klassen-m-w
END:VEVENT
END:VCALENDAR
