
BEGIN:VCALENDAR
VERSION:2.0
PRODID:-//5.44.111.156//NONSGML kigkonsult.se iCalcreator 2.20//
CALSCALE:GREGORIAN
METHOD:PUBLISH
X-WR-TIMEZONE:UTC
BEGIN:VEVENT
UID:event505@Schützengau Vilsbiburg
DTSTAMP:20260422T140128Z
CATEGORIES:Sonstiges
DESCRIPTION:100 Jahre Waldschützen Untersteppach\nKategorie: Sonstiges\nICS
 -Link: https://www.gau-vilsbiburg.de/index.php?option=com_jem&view=event&i
 d=505:100-jahre-waldschuetzen-untersteppach\n
DTSTART:20240721T080000Z
DTEND:20240721T080000Z
LOCATION:Waldschützen Untersteppach\,Untersteppach 4\,84169 Altfraunhofen
SUMMARY:100 Jahre Waldschützen Untersteppach
URL:https://www.gau-vilsbiburg.de/index.php?option=com_jem&view=event&id=50
 5:100-jahre-waldschuetzen-untersteppach
END:VEVENT
END:VCALENDAR
