
BEGIN:VCALENDAR
VERSION:2.0
PRODID:-//5.44.111.156//NONSGML kigkonsult.se iCalcreator 2.20//
CALSCALE:GREGORIAN
METHOD:PUBLISH
X-WR-TIMEZONE:UTC
BEGIN:VEVENT
UID:event546@Schützengau Vilsbiburg
DTSTAMP:20260424T154403Z
CATEGORIES:Sonstiges
DESCRIPTION:Bayerische Meisterschaft Bogen World Archery (WA) 3D 2024\nKate
 gorie: Sonstiges\nICS-Link: https://www.gau-vilsbiburg.de/index.php?option
 =com_jem&view=event&id=546:bayerische-meisterschaft-bogen-world-archery-wa
 -3d-2024\n
DTSTART:20240713T080000Z
DTEND:20240713T170000Z
LOCATION:Binataler 3D Bogenparcours \,Kirchstetten 97\,84137 Vilsbiburg
SUMMARY:Bayerische Meisterschaft Bogen World Archery (WA) 3D 2024
URL:https://www.gau-vilsbiburg.de/index.php?option=com_jem&view=event&id=54
 6:bayerische-meisterschaft-bogen-world-archery-wa-3d-2024
END:VEVENT
END:VCALENDAR
