
BEGIN:VCALENDAR
VERSION:2.0
PRODID:-//5.44.111.156//NONSGML kigkonsult.se iCalcreator 2.20//
CALSCALE:GREGORIAN
METHOD:PUBLISH
X-WR-TIMEZONE:UTC
BEGIN:VEVENT
UID:event650@Schützengau Vilsbiburg
DTSTAMP:20260424T142032Z
CATEGORIES:Siegerehrung/Preisverleihung
DESCRIPTION:Gausiegerehrung 2026\nKategorie: Siegerehrung/Preisverleihung\n
 ICS-Link: https://www.gau-vilsbiburg.de/index.php?option=com_jem&view=even
 t&id=650:gausiegerehrung-2026\n
DTSTART:20260510T180000Z
DTEND:20260510T180000Z
LOCATION:Gasthaus Putz Obervilslern\,84149 Obervilslern
SUMMARY:Gausiegerehrung 2026
URL:https://www.gau-vilsbiburg.de/index.php?option=com_jem&view=event&id=65
 0:gausiegerehrung-2026
END:VEVENT
END:VCALENDAR
