
BEGIN:VCALENDAR
VERSION:2.0
PRODID:-//5.44.111.156//NONSGML kigkonsult.se iCalcreator 2.20//
CALSCALE:GREGORIAN
METHOD:PUBLISH
X-WR-TIMEZONE:UTC
BEGIN:VEVENT
UID:event651@Schützengau Vilsbiburg
DTSTAMP:20260425T145336Z
CATEGORIES:Umzug
DESCRIPTION:75 Jahre Schützengau Deggendorf\nKategorie: Umzug\nICS-Link: ht
 tps://www.gau-vilsbiburg.de/index.php?option=com_jem&view=event&id=651:75-
 jahre-schuetzengau-deggendorf\n
DTSTART:20260503T080000Z
DTEND:20260503T080000Z
SUMMARY:75 Jahre Schützengau Deggendorf
URL:https://www.gau-vilsbiburg.de/index.php?option=com_jem&view=event&id=65
 1:75-jahre-schuetzengau-deggendorf
END:VEVENT
END:VCALENDAR
